BEGIN:VCALENDAR
VERSION:2.0
PRODID:icalendar-ruby
CALSCALE:GREGORIAN
METHOD:PUBLISH
BEGIN:VEVENT
DTSTAMP:20260426T030525Z
UID:26-1864887@svlc.org
DTSTART:20260723T020000Z
DTEND:20260723T030000Z
CLASS:PUBLIC
CREATED:20260425T170827
DESCRIPTION:Women's Group AA meeting*
LAST-MODIFIED:20260425T170827
LOCATION:SVLC
SUMMARY:Women's Group AA meeting*
URL;VALUE=URI:https://www.svlc.org/events/womens-group-aa-meeting--26/2026-
 07-22
END:VEVENT
END:VCALENDAR
