BEGIN:VCALENDAR
VERSION:2.0
PRODID:icalendar-ruby
CALSCALE:GREGORIAN
METHOD:PUBLISH
BEGIN:VEVENT
DTSTAMP:20260425T235459Z
UID:26-1864248@svlc.org
DTSTART:20260709T020000Z
DTEND:20260709T030000Z
CLASS:PUBLIC
CREATED:20260425T142514
DESCRIPTION:Women's Group AA meeting*
LAST-MODIFIED:20260425T142514
LOCATION:SVLC
SUMMARY:Women's Group AA meeting*
URL;VALUE=URI:https://www.svlc.org/events/womens-group-aa-meeting--26/2026-
 07-08
END:VEVENT
END:VCALENDAR
