BEGIN:VCALENDAR
VERSION:2.0
PRODID:icalendar-ruby
CALSCALE:GREGORIAN
METHOD:PUBLISH
BEGIN:VEVENT
DTSTAMP:20260425T215534Z
UID:26-1864247@svlc.org
DTSTART:20260702T020000Z
DTEND:20260702T030000Z
CLASS:PUBLIC
CREATED:20260425T142514
DESCRIPTION:Women's Group AA meeting*
LAST-MODIFIED:20260425T142514
LOCATION:SVLC
SUMMARY:Women's Group AA meeting*
URL;VALUE=URI:https://www.svlc.org/events/womens-group-aa-meeting--26/2026-
 07-01
END:VEVENT
END:VCALENDAR
