BEGIN:VCALENDAR
VERSION:2.0
PRODID:icalendar-ruby
CALSCALE:GREGORIAN
METHOD:PUBLISH
BEGIN:VEVENT
DTSTAMP:20260425T202751Z
UID:26-1863609@svlc.org
DTSTART:20260625T020000Z
DTEND:20260625T030000Z
CLASS:PUBLIC
CREATED:20260425T114315
DESCRIPTION:Women's Group AA meeting*
LAST-MODIFIED:20260425T114315
LOCATION:SVLC
SUMMARY:Women's Group AA meeting*
URL;VALUE=URI:https://www.svlc.org/events/womens-group-aa-meeting--26/2026-
 06-24
END:VEVENT
END:VCALENDAR
