BEGIN:VCALENDAR
VERSION:2.0
PRODID:icalendar-ruby
CALSCALE:GREGORIAN
METHOD:PUBLISH
BEGIN:VEVENT
DTSTAMP:20260423T121222Z
UID:102-1848061@svlc.org
DTSTART:20260429T223000Z
DTEND:20260429T233000Z
CLASS:PUBLIC
CREATED:20260421T133157
DESCRIPTION:The GOATS meet on Zoom at 3:30 P.M.  All are welcome -- see yo
 u there!\n 
LAST-MODIFIED:20260421T133157
LOCATION:Zoom - 3:30P.M.
SUMMARY:GOATS Bible Study
URL;VALUE=URI:https://www.svlc.org/events/goats-bible-study/2026-04-29
END:VEVENT
END:VCALENDAR
