BEGIN:VCALENDAR
VERSION:2.0
PRODID:icalendar-ruby
CALSCALE:GREGORIAN
METHOD:PUBLISH
BEGIN:VEVENT
DTSTAMP:20260425T185032Z
UID:151-1848085@svlc.org
DTSTART;VALUE=DATE:20260521
DTEND;VALUE=DATE:20260521
CLASS:PUBLIC
CREATED:20260421T133349
DESCRIPTION:
LAST-MODIFIED:20260421T133349
LOCATION:SVLC
SUMMARY:Gather Bible Study
URL;VALUE=URI:https://www.svlc.org/events/gather-bible-study--151/2026-05-2
 1
END:VEVENT
END:VCALENDAR
